BEGIN:VCALENDAR
VERSION:2.0
PRODID:-//Squarespace Inc/Squarespace 6//v6//EN
BEGIN:VEVENT
UID:5e3a4b533d8d7e063bfaf4f6@squarespace.com
DTSTAMP:20200205T045825Z
DTSTART:20200307T013000Z
DTEND:20200307T043000Z
SUMMARY:Karaoke
END:VEVENT
END:VCALENDAR
