BEGIN:VCALENDAR
VERSION:2.0
PRODID:-//Squarespace Inc/Squarespace 6//v6//EN
BEGIN:VEVENT
UID:5e3a4b77d29b7f336bb3d793@squarespace.com
DTSTAMP:20200205T045840Z
DTSTART:20200314T003000Z
DTEND:20200314T033000Z
SUMMARY:Karaoke
END:VEVENT
END:VCALENDAR
