BEGIN:VCALENDAR
VERSION:2.0
PRODID:-//Squarespace Inc/Squarespace 6//v6//EN
BEGIN:VEVENT
UID:5e3a52b4d29b7f336bb5171d@squarespace.com
DTSTAMP:20200205T054136Z
DTSTART:20200301T010000Z
DTEND:20200301T040000Z
SUMMARY:LIVE: Shirina
END:VEVENT
END:VCALENDAR
