BEGIN:VCALENDAR
VERSION:2.0
PRODID:-//Squarespace Inc/Squarespace 6//v6//EN
BEGIN:VEVENT
UID:5e558f292066c00f6f329869@squarespace.com
DTSTAMP:20200225T212029Z
DTSTART:20200308T010000Z
DTEND:20200308T040000Z
SUMMARY:LIVE: F Piano Man
END:VEVENT
END:VCALENDAR
