BEGIN:VCALENDAR
VERSION:2.0
PRODID:-//Squarespace Inc/Squarespace 6//v6//EN
BEGIN:VEVENT
UID:5e3a4b0d3177b21860467dec@squarespace.com
DTSTAMP:20200205T045659Z
DTSTART:20200215T013000Z
DTEND:20200215T043000Z
SUMMARY:Karaoke
END:VEVENT
END:VCALENDAR
