BEGIN:VCALENDAR
VERSION:2.0
PRODID:-//Squarespace Inc/Squarespace 6//v6//EN
BEGIN:VEVENT
UID:5e3a4b2a5657b711dbfa07eb@squarespace.com
DTSTAMP:20200205T045725Z
DTSTART:20200222T013000Z
DTEND:20200222T043000Z
SUMMARY:Karaoke
END:VEVENT
END:VCALENDAR
