BEGIN:VCALENDAR
VERSION:2.0
PRODID:-//Squarespace Inc/Squarespace 6//v6//EN
BEGIN:VEVENT
UID:5e3a4ceb69d6292afd6998be@squarespace.com
DTSTAMP:20200205T054105Z
DTSTART:20200209T010000Z
DTEND:20200209T040000Z
SUMMARY:LIVE: Greg Nunan
END:VEVENT
END:VCALENDAR
