BEGIN:VCALENDAR
VERSION:2.0
PRODID:-//Squarespace Inc/Squarespace 6//v6//EN
BEGIN:VEVENT
UID:5e3a523ffeb09e0f358458a2@squarespace.com
DTSTAMP:20200205T054114Z
DTSTART:20200216T010000Z
DTEND:20200216T040000Z
SUMMARY:LIVE: Jamieson
END:VEVENT
END:VCALENDAR
