BEGIN:VCALENDAR
VERSION:2.0
PRODID:-//Squarespace Inc/Squarespace 6//v6//EN
BEGIN:VEVENT
UID:5e558f566eb9ca67a2b317a8@squarespace.com
DTSTAMP:20200225T211955Z
DTSTART:20200315T013000Z
DTEND:20200315T043000Z
SUMMARY:LIVE: Jimmy Heathwood
END:VEVENT
END:VCALENDAR
