BEGIN:VCALENDAR
VERSION:2.0
PRODID:-//Squarespace Inc/Squarespace 6//v6//EN
BEGIN:VEVENT
UID:5e558fa596f3913deb59dba9@squarespace.com
DTSTAMP:20200225T212109Z
DTSTART:20200322T013000Z
DTEND:20200322T043000Z
SUMMARY:LIVE: Undersided
END:VEVENT
END:VCALENDAR
