BEGIN:VCALENDAR
VERSION:2.0
PRODID:-//Squarespace Inc/Squarespace 6//v6//EN
BEGIN:VEVENT
UID:5e558ffdade94e59f76157b7@squarespace.com
DTSTAMP:20200225T212223Z
DTSTART:20200329T013000Z
DTEND:20200329T043000Z
SUMMARY:LIVE: Vanessa Heinitz
END:VEVENT
END:VCALENDAR
