BEGIN:VCALENDAR
VERSION:2.0
PRODID:-//Squarespace Inc/Squarespace 6//v6//EN
BEGIN:VEVENT
UID:5e3a52eaf8a25f606a876271@squarespace.com
DTSTAMP:20200205T054030Z
DTSTART:20200221T003000Z
DTEND:20200221T023000Z
SUMMARY:Rom-Com Trivia
END:VEVENT
END:VCALENDAR
