BEGIN:VCALENDAR
VERSION:2.0
PRODID:-//Squarespace Inc/Squarespace 6//v6//EN
BEGIN:VEVENT
UID:5d4795b5f352bf000135abb2@squarespace.com
DTSTAMP:20190805T042548Z
DTSTART:20190824T011500Z
DTEND:20190824T041500Z
SUMMARY:Lloyd Bowden
END:VEVENT
END:VCALENDAR
