BEGIN:VCALENDAR
VERSION:2.0
PRODID:-//Squarespace Inc/Squarespace 6//v6//EN
BEGIN:VEVENT
UID:5d477da48560f600014ccb0f@squarespace.com
DTSTAMP:20190805T042435Z
DTSTART:20190811T011500Z
DTEND:20190811T041500Z
SUMMARY:Aimee Hannon
END:VEVENT
END:VCALENDAR
