BEGIN:VCALENDAR
VERSION:2.0
PRODID:-//Squarespace Inc/Squarespace 6//v6//EN
BEGIN:VEVENT
UID:5ce5eb6c419202fc19b50795@squarespace.com
DTSTAMP:20190523T004037Z
DTSTART:20190706T230000Z
DTEND:20190707T030000Z
SUMMARY:Van the Man - Tribute Show
END:VEVENT
END:VCALENDAR
