BEGIN:VCALENDAR
VERSION:2.0
PRODID:-//Squarespace Inc/Squarespace 6//v6//EN
BEGIN:VEVENT
UID:5ce5ea3a1905f4ce0d403d5f@squarespace.com
DTSTAMP:20190523T003749Z
DTSTART:20190707T011500Z
DTEND:20190707T041500Z
SUMMARY:Open Mic Competition Semi-Final 2
END:VEVENT
END:VCALENDAR
