BEGIN:VCALENDAR
VERSION:2.0
PRODID:-//Squarespace Inc/Squarespace 6//v6//EN
BEGIN:VEVENT
UID:5ce5e7db9b747a4fd680eb38@squarespace.com
DTSTAMP:20190523T002628Z
DTSTART:20190706T011500Z
DTEND:20190706T041500Z
SUMMARY:Pablo Dias 
END:VEVENT
END:VCALENDAR
