BEGIN:VCALENDAR
VERSION:2.0
PRODID:-//Squarespace Inc/Squarespace 6//v6//EN
BEGIN:VEVENT
UID:5ce5ecd7ee6eb01c738426b3@squarespace.com
DTSTAMP:20190523T005029Z
DTSTART:20190714T011500Z
DTEND:20190714T041500Z
SUMMARY:Open Mic Competition Semi-Final 3
END:VEVENT
END:VCALENDAR
