BEGIN:VCALENDAR
VERSION:2.0
PRODID:-//Squarespace Inc/Squarespace 6//v6//EN
BEGIN:VEVENT
UID:5ce5ec210d929727ab5c8342@squarespace.com
DTSTAMP:20190523T004247Z
DTSTART:20190713T011500Z
DTEND:20190713T041500Z
SUMMARY:Jack Evans 
END:VEVENT
END:VCALENDAR
