BEGIN:VCALENDAR
VERSION:2.0
PRODID:-//Squarespace Inc/Squarespace 6//v6//EN
BEGIN:VEVENT
UID:5cc69d9eee6eb05d61a1106c@squarespace.com
DTSTAMP:20190429T070117Z
DTSTART:20190630T011500Z
DTEND:20190630T040000Z
SUMMARY:Open Mic Competition Semi-Final 1
END:VEVENT
END:VCALENDAR
