BEGIN:VCALENDAR
VERSION:2.0
PRODID:-//Squarespace Inc/Squarespace 6//v6//EN
BEGIN:VEVENT
UID:5cc69c16c8302560fa3d61aa@squarespace.com
DTSTAMP:20190429T064212Z
DTSTART:20190621T230000Z
DTEND:20190622T031500Z
SUMMARY:Mental As Anything 
END:VEVENT
END:VCALENDAR
