BEGIN:VCALENDAR
VERSION:2.0
PRODID:-//Squarespace Inc/Squarespace 6//v6//EN
BEGIN:VEVENT
UID:5cc69be3e79c70bb32b0b8b8@squarespace.com
DTSTAMP:20190429T063905Z
DTSTART:20190622T011500Z
DTEND:20190622T041500Z
SUMMARY:Kirk Burgess
END:VEVENT
END:VCALENDAR
