BEGIN:VCALENDAR
VERSION:2.0
PRODID:-//Squarespace Inc/Squarespace 6//v6//EN
BEGIN:VEVENT
UID:5cc69babeaa3080001947cc7@squarespace.com
DTSTAMP:20190429T063817Z
DTSTART:20190616T200000Z
DTEND:20190616T230000Z
SUMMARY:Alex Roussos
END:VEVENT
END:VCALENDAR
