BEGIN:VCALENDAR
VERSION:2.0
PRODID:-//Squarespace Inc/Squarespace 6//v6//EN
BEGIN:VEVENT
UID:5cc69b5a7817f7fabe8a513e@squarespace.com
DTSTAMP:20190429T070005Z
DTSTART:20190616T011500Z
DTEND:20190616T040000Z
SUMMARY:Open Mic Competition Round 5
END:VEVENT
END:VCALENDAR
