BEGIN:VCALENDAR
VERSION:2.0
PRODID:-//Squarespace Inc/Squarespace 6//v6//EN
BEGIN:VEVENT
UID:5cc69ae341920206ad19d509@squarespace.com
DTSTAMP:20190429T063552Z
DTSTART:20190614T230000Z
DTEND:20190615T030000Z
SUMMARY:Mumma Mia Tribute Show
END:VEVENT
END:VCALENDAR
