BEGIN:VCALENDAR
VERSION:2.0
PRODID:-//Squarespace Inc/Squarespace 6//v6//EN
BEGIN:VEVENT
UID:5cc69ab4ec212ddf23853d38@squarespace.com
DTSTAMP:20190429T063402Z
DTSTART:20190615T011500Z
DTEND:20190615T041500Z
SUMMARY:Lloyd Bowden
END:VEVENT
END:VCALENDAR
