BEGIN:VCALENDAR
VERSION:2.0
PRODID:-//Squarespace Inc/Squarespace 6//v6//EN
BEGIN:VEVENT
UID:5cc69841e2c4832c5cbecbe2@squarespace.com
DTSTAMP:20190429T065932Z
DTSTART:20190602T011500Z
DTEND:20190602T040000Z
SUMMARY:Open Mic Competition Round 4
END:VEVENT
END:VCALENDAR
