BEGIN:VCALENDAR
VERSION:2.0
PRODID:-//Squarespace Inc/Squarespace 6//v6//EN
BEGIN:VEVENT
UID:5cc698c6eaa308000194719d@squarespace.com
DTSTAMP:20190429T063211Z
DTSTART:20190601T230000Z
DTEND:20190602T030000Z
SUMMARY:A Tapestry of Fire and Rain 
END:VEVENT
END:VCALENDAR
