BEGIN:VCALENDAR
VERSION:2.0
PRODID:-//Squarespace Inc/Squarespace 6//v6//EN
BEGIN:VEVENT
UID:5cc654b3b208fcfb57a4c824@squarespace.com
DTSTAMP:20190429T013523Z
DTSTART:20190601T011500Z
DTEND:20190601T041500Z
SUMMARY:Joe B
END:VEVENT
END:VCALENDAR
