BEGIN:VCALENDAR
VERSION:2.0
PRODID:-//Squarespace Inc/Squarespace 6//v6//EN
BEGIN:VEVENT
UID:5cc651b01905f4d13a6e3397@squarespace.com
DTSTAMP:20190429T012656Z
DTSTART:20190511T230000Z
DTEND:20190512T030000Z
SUMMARY:Bad Moon Rising
END:VEVENT
END:VCALENDAR
