BEGIN:VCALENDAR
VERSION:2.0
PRODID:-//Squarespace Inc/Squarespace 6//v6//EN
BEGIN:VEVENT
UID:5cc6544f7817f7fabe88ab80@squarespace.com
DTSTAMP:20190429T065902Z
DTSTART:20190526T011500Z
DTEND:20190526T040000Z
SUMMARY:Open Mic Competition Round 3
END:VEVENT
END:VCALENDAR
