BEGIN:VCALENDAR
VERSION:2.0
PRODID:-//Squarespace Inc/Squarespace 6//v6//EN
BEGIN:VEVENT
UID:5cc654050717dc000134ae7a@squarespace.com
DTSTAMP:20190429T013248Z
DTSTART:20190525T011500Z
DTEND:20190525T041500Z
SUMMARY:Keith Armitage
END:VEVENT
END:VCALENDAR
