BEGIN:VCALENDAR
VERSION:2.0
PRODID:-//Squarespace Inc/Squarespace 6//v6//EN
BEGIN:VEVENT
UID:5cc6539be79c70bb32af0cbb@squarespace.com
DTSTAMP:20190429T065701Z
DTSTART:20190519T011500Z
DTEND:20190519T040000Z
SUMMARY:Open Mic Competition Round 2
END:VEVENT
END:VCALENDAR
