BEGIN:VCALENDAR
VERSION:2.0
PRODID:-//Squarespace Inc/Squarespace 6//v6//EN
BEGIN:VEVENT
UID:5cc652821905f4d13a6e38eb@squarespace.com
DTSTAMP:20190429T012620Z
DTSTART:20190518T011500Z
DTEND:20190518T041500Z
SUMMARY:Nick Hill
END:VEVENT
END:VCALENDAR
