BEGIN:VCALENDAR
VERSION:2.0
PRODID:-//Squarespace Inc/Squarespace 6//v6//EN
BEGIN:VEVENT
UID:5cc64ffcf5a50f00010f2fb1@squarespace.com
DTSTAMP:20190429T065825Z
DTSTART:20190512T011500Z
DTEND:20190512T040000Z
SUMMARY:Open Mic Competition Round 1
END:VEVENT
END:VCALENDAR
