BEGIN:VCALENDAR
VERSION:2.0
PRODID:-//Squarespace Inc/Squarespace 6//v6//EN
BEGIN:VEVENT
UID:5c9dac02fa0d605f4af42ade@squarespace.com
DTSTAMP:20190401T055619Z
DTSTART:20190407T011500Z
DTEND:20190407T041500Z
SUMMARY:Nick HIll
END:VEVENT
END:VCALENDAR
