BEGIN:VCALENDAR
VERSION:2.0
PRODID:-//Squarespace Inc/Squarespace 6//v6//EN
BEGIN:VEVENT
UID:5cc69cf28165f562eb8c4f69@squarespace.com
DTSTAMP:20190429T070044Z
DTSTART:20190623T011500Z
DTEND:20190623T040000Z
SUMMARY:Open Mic Competition Round 6
END:VEVENT
END:VCALENDAR
