BEGIN:VCALENDAR
VERSION:2.0
PRODID:-//Squarespace Inc/Squarespace 6//v6//EN
BEGIN:VEVENT
UID:5c9daf557817f735baaea0ad@squarespace.com
DTSTAMP:20190429T011234Z
DTSTART:20190504T011500Z
DTEND:20190504T041500Z
SUMMARY:Antoine
END:VEVENT
END:VCALENDAR
