BEGIN:VCALENDAR
VERSION:2.0
PRODID:-//Squarespace Inc/Squarespace 6//v6//EN
BEGIN:VEVENT
UID:5c9daf0d971a1844e9fba2b2@squarespace.com
DTSTAMP:20190429T011328Z
DTSTART:20190505T011500Z
DTEND:20190505T041500Z
SUMMARY:Emad Younan
END:VEVENT
END:VCALENDAR
