BEGIN:VCALENDAR
VERSION:2.0
PRODID:-//Squarespace Inc/Squarespace 6//v6//EN
BEGIN:VEVENT
UID:5c9daebdeef1a174cce02656@squarespace.com
DTSTAMP:20190329T053709Z
DTSTART:20190426T230000Z
DTEND:20190427T020000Z
SUMMARY:Diesel
END:VEVENT
END:VCALENDAR
