BEGIN:VCALENDAR
VERSION:2.0
PRODID:-//Squarespace Inc/Squarespace 6//v6//EN
BEGIN:VEVENT
UID:5c9dae7553450a0ed5582f0b@squarespace.com
DTSTAMP:20190329T053522Z
DTSTART:20190421T000000Z
DTEND:20190421T030000Z
SUMMARY:Elton John Tribute
END:VEVENT
END:VCALENDAR
