BEGIN:VCALENDAR
VERSION:2.0
PRODID:-//Squarespace Inc/Squarespace 6//v6//EN
BEGIN:VEVENT
UID:5c9dae580852299d9eae7384@squarespace.com
DTSTAMP:20190329T053437Z
DTSTART:20190420T011500Z
DTEND:20190420T041500Z
SUMMARY:Hannah T
END:VEVENT
END:VCALENDAR
