BEGIN:VCALENDAR
VERSION:2.0
PRODID:-//Squarespace Inc/Squarespace 6//v6//EN
BEGIN:VEVENT
UID:5c9dae24ef067500012aabb3@squarespace.com
DTSTAMP:20190329T053408Z
DTSTART:20190413T233000Z
DTEND:20190414T033000Z
SUMMARY:Disco Night | I Love The Nightlife
END:VEVENT
END:VCALENDAR
