BEGIN:VCALENDAR
VERSION:2.0
PRODID:-//Squarespace Inc/Squarespace 6//v6//EN
BEGIN:VEVENT
UID:5c9dacb3c83025ef63a3c22f@squarespace.com
DTSTAMP:20190329T053314Z
DTSTART:20190413T011500Z
DTEND:20190413T041500Z
SUMMARY:Andrew Stergio
END:VEVENT
END:VCALENDAR
