BEGIN:VCALENDAR
VERSION:2.0
PRODID:-//Squarespace Inc/Squarespace 6//v6//EN
BEGIN:VEVENT
UID:5c6e306beb39315d8de19203@squarespace.com
DTSTAMP:20190221T051051Z
DTSTART:20190331T000000Z
DTEND:20190331T030000Z
SUMMARY:Triple Header | Mezcaltones\, McClarens &amp\; Micro
END:VEVENT
END:VCALENDAR
