BEGIN:VCALENDAR
VERSION:2.0
PRODID:-//Squarespace Inc/Squarespace 6//v6//EN
BEGIN:VEVENT
UID:5c9dabd6fa0d605f4af429dc@squarespace.com
DTSTAMP:20190329T052639Z
DTSTART:20190406T011500Z
DTEND:20190406T041500Z
SUMMARY:Big Rich
END:VEVENT
END:VCALENDAR
