BEGIN:VCALENDAR
VERSION:2.0
PRODID:-//Squarespace Inc/Squarespace 6//v6//EN
BEGIN:VEVENT
UID:5c6e2f2153450a138d002933@squarespace.com
DTSTAMP:20190221T045516Z
DTSTART:20190303T010000Z
DTEND:20190303T040000Z
SUMMARY:Kristy Garrett
END:VEVENT
END:VCALENDAR
