BEGIN:VCALENDAR
VERSION:2.0
PRODID:-//Squarespace Inc/Squarespace 6//v6//EN
BEGIN:VEVENT
UID:5c6e2f46ee6eb0281c13259a@squarespace.com
DTSTAMP:20190221T045608Z
DTSTART:20190309T010000Z
DTEND:20190309T040000Z
SUMMARY:Keith Armitage
END:VEVENT
END:VCALENDAR
