BEGIN:VCALENDAR
VERSION:2.0
PRODID:-//Squarespace Inc/Squarespace 6//v6//EN
BEGIN:VEVENT
UID:5c6e2f7053450a138d002ba1@squarespace.com
DTSTAMP:20190221T045635Z
DTSTART:20190310T010000Z
DTEND:20190310T040000Z
SUMMARY:Jamel Boukabou
END:VEVENT
END:VCALENDAR
