BEGIN:VCALENDAR
VERSION:2.0
PRODID:-//Squarespace Inc/Squarespace 6//v6//EN
BEGIN:VEVENT
UID:5c6e2f8b15fcc08098096464@squarespace.com
DTSTAMP:20190221T045801Z
DTSTART:20190316T011500Z
DTEND:20190316T041500Z
SUMMARY:Jack Evans
END:VEVENT
END:VCALENDAR
